BEGIN:VCALENDAR
VERSION:2.0
PRODID:-//SoulBeing - ECPv6.15.14//NONSGML v1.0//EN
CALSCALE:GREGORIAN
METHOD:PUBLISH
X-WR-CALNAME:SoulBeing
X-ORIGINAL-URL:https://soulbeing.com
X-WR-CALDESC:Events for SoulBeing
REFRESH-INTERVAL;VALUE=DURATION:PT1H
X-Robots-Tag:noindex
X-PUBLISHED-TTL:PT1H
BEGIN:VTIMEZONE
TZID:America/New_York
BEGIN:DAYLIGHT
TZOFFSETFROM:-0500
TZOFFSETTO:-0400
TZNAME:EDT
DTSTART:20240310T070000
END:DAYLIGHT
BEGIN:STANDARD
TZOFFSETFROM:-0400
TZOFFSETTO:-0500
TZNAME:EST
DTSTART:20241103T060000
END:STANDARD
BEGIN:DAYLIGHT
TZOFFSETFROM:-0500
TZOFFSETTO:-0400
TZNAME:EDT
DTSTART:20250309T070000
END:DAYLIGHT
BEGIN:STANDARD
TZOFFSETFROM:-0400
TZOFFSETTO:-0500
TZNAME:EST
DTSTART:20251102T060000
END:STANDARD
BEGIN:DAYLIGHT
TZOFFSETFROM:-0500
TZOFFSETTO:-0400
TZNAME:EDT
DTSTART:20260308T070000
END:DAYLIGHT
BEGIN:STANDARD
TZOFFSETFROM:-0400
TZOFFSETTO:-0500
TZNAME:EST
DTSTART:20261101T060000
END:STANDARD
END:VTIMEZONE
BEGIN:VEVENT
DTSTART;TZID=America/New_York:20250326T120000
DTEND;TZID=America/New_York:20250625T150000
DTSTAMP:20260422T090046
CREATED:20250409T175715Z
LAST-MODIFIED:20250422T144204Z
UID:33859-1742990400-1750863600@soulbeing.com
SUMMARY:Community Acupuncture
DESCRIPTION:Join us regularly to discover how acupuncture can holistically support: \n‘Stress & Anxiety: Restore healthy nervous system patterns.\nSleep: Improve restorative sleep cycles for better rest.\nEnergy: Boost natural energy levels to counter fatigue.\nMental & Emotional Well-Being: Enhance focus\, mood\, and mental clarity.\nImmune Function: Strengthen your body’s natural defenses for optimal health.
URL:https://soulbeing.com/event/community-acupuncture/
LOCATION:Good Medicine Collective\, 231 York Street\, Portland\, ME\, 04102\, United States
ATTACH;FMTTYPE=image/png:https://soulbeing.com/wp-content/uploads/2025/04/CommunityAcupuncture.png
END:VEVENT
BEGIN:VEVENT
DTSTART;TZID=America/New_York:20250331T130000
DTEND;TZID=America/New_York:20250331T141500
DTSTAMP:20260422T090046
CREATED:20250216T162417Z
LAST-MODIFIED:20250216T162427Z
UID:33690-1743426000-1743430500@soulbeing.com
SUMMARY:Healing Breathwork | Accelerate emotional and physical healing • Brooklyn
DESCRIPTION:Release emotional blocks\, physical tension\, and accelerate physical and emotional healing in our online Healing Breathwork Session.
URL:https://soulbeing.com/event/healing-breathwork-accelerate-emotional-and-physical-healing-brooklyn-7/
LOCATION:Soul Dimension\, Online Zoom Meeting\, Brooklyn\, NY\, 11211\, United States
ATTACH;FMTTYPE=image/jpeg:https://soulbeing.com/wp-content/uploads/2025/02/cc703851e4c099ebbe23088721c71433.jpg
END:VEVENT
BEGIN:VEVENT
DTSTART;TZID=America/New_York:20250331T160000
DTEND;TZID=America/New_York:20250331T190000
DTSTAMP:20260422T090046
CREATED:20250216T161325Z
LAST-MODIFIED:20250216T161326Z
UID:33616-1743436800-1743447600@soulbeing.com
SUMMARY:NYC Health + Hospitals Inaugural TGDNB Health Fair
DESCRIPTION:Connecting the TGDNB community with vital resources\, support\, and care for a healthier future.\n\n\nJoin us for the inaugural Transgender\, Gender Diverse\, and Nonbinary (TGDNB) Health Fair hosted by NYC Health + Hospitals. This community-centered event focuses on connecting attendees with vital resources and support from community-based organizations (CBOs). Explore a variety of services and receive assistance with accessing healthcare\, legal resources\, and other essential services tailored to the needs of the TGDNB community. \nThis health fair is free\, open to all and provides a safe\, welcoming space to discover resources\, build connections\, and find support for your health and well-being. \nFor any questions pertaining to this event\, please contact lgbtq@nychhc.org. \nRSVP below — we look forward to seeing you there! 🌟 \nDisclaimer: Your information will only be used to email you about this event and will not be shared or used for any other purposes.
URL:https://soulbeing.com/event/nyc-health-hospitals-inaugural-tgdnb-health-fair/
LOCATION:The Lesbian\, Gay\, Bisexual & Transgender Community Center\, 208 West 13th Street\, Room # 101\, New York\, NY\, 10011\, United States
END:VEVENT
BEGIN:VEVENT
DTSTART;TZID=America/New_York:20250331T214000
DTEND;TZID=America/New_York:20250331T221000
DTSTAMP:20260422T090046
CREATED:20250211T222912Z
LAST-MODIFIED:20250211T222936Z
UID:32906-1743457200-1743459000@soulbeing.com
SUMMARY:Weekday Meditation\, Augusta\, ME | Reflect\, Prepare\, Rejuvenate | Online
DESCRIPTION:Discover inner peace in just 30 minutes with Coquihalla’s Meditation Sessions. Expert guidance to elevate your well-being!
URL:https://soulbeing.com/event/weekday-meditation-augusta-me-reflect-prepare-rejuvenate-online-35/
LOCATION:Augusta\, Augusta\, Augusta\, ME\, 04330\, United States
ATTACH;FMTTYPE=image/jpeg:https://soulbeing.com/wp-content/uploads/2025/02/622854561a4bf0b89138d8b88a297b2f-1.jpg
END:VEVENT
END:VCALENDAR