BEGIN:VCALENDAR
VERSION:2.0
PRODID:-//SoulBeing - ECPv6.15.14//NONSGML v1.0//EN
CALSCALE:GREGORIAN
METHOD:PUBLISH
X-ORIGINAL-URL:https://soulbeing.com
X-WR-CALDESC:Events for SoulBeing
REFRESH-INTERVAL;VALUE=DURATION:PT1H
X-Robots-Tag:noindex
X-PUBLISHED-TTL:PT1H
BEGIN:VTIMEZONE
TZID:America/New_York
BEGIN:DAYLIGHT
TZOFFSETFROM:-0500
TZOFFSETTO:-0400
TZNAME:EDT
DTSTART:20240310T070000
END:DAYLIGHT
BEGIN:STANDARD
TZOFFSETFROM:-0400
TZOFFSETTO:-0500
TZNAME:EST
DTSTART:20241103T060000
END:STANDARD
BEGIN:DAYLIGHT
TZOFFSETFROM:-0500
TZOFFSETTO:-0400
TZNAME:EDT
DTSTART:20250309T070000
END:DAYLIGHT
BEGIN:STANDARD
TZOFFSETFROM:-0400
TZOFFSETTO:-0500
TZNAME:EST
DTSTART:20251102T060000
END:STANDARD
BEGIN:DAYLIGHT
TZOFFSETFROM:-0500
TZOFFSETTO:-0400
TZNAME:EDT
DTSTART:20260308T070000
END:DAYLIGHT
BEGIN:STANDARD
TZOFFSETFROM:-0400
TZOFFSETTO:-0500
TZNAME:EST
DTSTART:20261101T060000
END:STANDARD
END:VTIMEZONE
BEGIN:VEVENT
DTSTART;TZID=America/New_York:20250326T120000
DTEND;TZID=America/New_York:20250625T150000
DTSTAMP:20260420T091350
CREATED:20250409T175715Z
LAST-MODIFIED:20250422T144204Z
UID:33859-1742990400-1750863600@soulbeing.com
SUMMARY:Community Acupuncture
DESCRIPTION:Join us regularly to discover how acupuncture can holistically support: \n‘Stress & Anxiety: Restore healthy nervous system patterns.\nSleep: Improve restorative sleep cycles for better rest.\nEnergy: Boost natural energy levels to counter fatigue.\nMental & Emotional Well-Being: Enhance focus\, mood\, and mental clarity.\nImmune Function: Strengthen your body’s natural defenses for optimal health.
URL:https://soulbeing.com/event/community-acupuncture/
LOCATION:Good Medicine Collective\, 231 York Street\, Portland\, ME\, 04102\, United States
ATTACH;FMTTYPE=image/png:https://soulbeing.com/wp-content/uploads/2025/04/CommunityAcupuncture.png
END:VEVENT
BEGIN:VEVENT
DTSTART;TZID=America/New_York:20250402T150000
DTEND;TZID=America/New_York:20250402T160000
DTSTAMP:20260420T091350
CREATED:20250214T210935Z
LAST-MODIFIED:20250214T210941Z
UID:33254-1743606000-1743609600@soulbeing.com
SUMMARY:Dropping The Alcohol Habit: A Workshop for Sober Curious Moms (Concord)
DESCRIPTION:Join Holistic Alcohol Coach Bonnie Alina for a FREE live virtual 2-day event (60-90 minutes each day)
URL:https://soulbeing.com/event/dropping-the-alcohol-habit-a-workshop-for-sober-curious-moms-concord-2/
LOCATION:Concord – Virtual Via Zoom\, Concord\, Concord\, NH\, 03301
ATTACH;FMTTYPE=image/jpeg:https://soulbeing.com/wp-content/uploads/2025/02/d946994d7319a237b99d8caf248035fa-1.jpg
END:VEVENT
BEGIN:VEVENT
DTSTART;TZID=America/New_York:20250402T180000
DTEND;TZID=America/New_York:20250402T193000
DTSTAMP:20260420T091350
CREATED:20250214T205940Z
LAST-MODIFIED:20250214T205949Z
UID:33203-1743616800-1743622200@soulbeing.com
SUMMARY:Nourish Night: Supporting Hormones & the HPA Axis
DESCRIPTION:At this pop-up Nourish Night\, the nutrition specialist team will be telling us all about: Supporting Hormones & the HPA Axis\n\n\nAt Nourish Holistic Health & Nutrition\, LLC\, it is our mission to help each and every person feel their best. We use a combination of whole-food nutrition\, lifestyle changes\, and various well-being practices to allow your body the ability to thrive. We believe that what you put in\, you will get back in return\, in all aspects of your life. \nWe believe in the bio-individuality of each and every person we meet. This means that we need to ditch the “one size fits all” mentality when it comes to what we eat. Remember this…everybody is different and every BODY is different. \nAttending one of our pop-up seminars is a great way to learn more about the various aspects of Holistic Nutrition and meet our team! \n👉 Join us for a conversation about the role our diet and lifestyle play in our hormonal health\, and the best ways we can support our bodies and hormones using food! We will dive into topics including blood sugar\, digestion\, minerals\, and much more\, and will also share tools to best support your hormones and hormonal glands for optimal health & well-being.
URL:https://soulbeing.com/event/nourish-night-supporting-hormones-the-hpa-axis/
LOCATION:Wellness Village NH\, 660 Mast Road\, Manchester\, NH\, 03102\, United States
ATTACH;FMTTYPE=image/jpeg:https://soulbeing.com/wp-content/uploads/2025/02/6e182b8fd85f2a084b3b3e61eb4ca321.jpg
END:VEVENT
BEGIN:VEVENT
DTSTART;TZID=America/New_York:20250402T190000
DTEND;TZID=America/New_York:20250402T200000
DTSTAMP:20260420T091350
CREATED:20250216T154650Z
LAST-MODIFIED:20250216T154658Z
UID:33371-1743620400-1743624000@soulbeing.com
SUMMARY:Wellness Wednesday: Stress & Anxiety Relief Session
DESCRIPTION:Join us in person at The Noble Touch Holistic Healing Center for a free personalized Energy Healing session for stress and pain reduction!
URL:https://soulbeing.com/event/wellness-wednesday-stress-anxiety-relief-session-5/
LOCATION:1110 Fulton St\, 1110 Fulton Street\, Brooklyn\, NY\, 11238\, United States
ATTACH;FMTTYPE=image/jpeg:https://soulbeing.com/wp-content/uploads/2025/02/fb4dde9e3135ba32699bcd2fe757c842.jpg
END:VEVENT
BEGIN:VEVENT
DTSTART;TZID=America/New_York:20250402T214000
DTEND;TZID=America/New_York:20250402T221000
DTSTAMP:20260420T091350
CREATED:20250211T222913Z
LAST-MODIFIED:20250211T222937Z
UID:32908-1743630000-1743631800@soulbeing.com
SUMMARY:Weekday Meditation\, Augusta\, ME | Reflect\, Prepare\, Rejuvenate | Online
DESCRIPTION:Discover inner peace in just 30 minutes with Coquihalla’s Meditation Sessions. Expert guidance to elevate your well-being!
URL:https://soulbeing.com/event/weekday-meditation-augusta-me-reflect-prepare-rejuvenate-online-37/
LOCATION:Augusta\, Augusta\, Augusta\, ME\, 04330\, United States
ATTACH;FMTTYPE=image/jpeg:https://soulbeing.com/wp-content/uploads/2025/02/622854561a4bf0b89138d8b88a297b2f-1.jpg
END:VEVENT
END:VCALENDAR