BEGIN:VCALENDAR
VERSION:2.0
PRODID:-//SoulBeing - ECPv6.15.14//NONSGML v1.0//EN
CALSCALE:GREGORIAN
METHOD:PUBLISH
X-ORIGINAL-URL:https://soulbeing.com
X-WR-CALDESC:Events for SoulBeing
REFRESH-INTERVAL;VALUE=DURATION:PT1H
X-Robots-Tag:noindex
X-PUBLISHED-TTL:PT1H
BEGIN:VTIMEZONE
TZID:America/New_York
BEGIN:DAYLIGHT
TZOFFSETFROM:-0500
TZOFFSETTO:-0400
TZNAME:EDT
DTSTART:20240310T070000
END:DAYLIGHT
BEGIN:STANDARD
TZOFFSETFROM:-0400
TZOFFSETTO:-0500
TZNAME:EST
DTSTART:20241103T060000
END:STANDARD
BEGIN:DAYLIGHT
TZOFFSETFROM:-0500
TZOFFSETTO:-0400
TZNAME:EDT
DTSTART:20250309T070000
END:DAYLIGHT
BEGIN:STANDARD
TZOFFSETFROM:-0400
TZOFFSETTO:-0500
TZNAME:EST
DTSTART:20251102T060000
END:STANDARD
BEGIN:DAYLIGHT
TZOFFSETFROM:-0500
TZOFFSETTO:-0400
TZNAME:EDT
DTSTART:20260308T070000
END:DAYLIGHT
BEGIN:STANDARD
TZOFFSETFROM:-0400
TZOFFSETTO:-0500
TZNAME:EST
DTSTART:20261101T060000
END:STANDARD
END:VTIMEZONE
BEGIN:VEVENT
DTSTART;TZID=America/New_York:20250326T120000
DTEND;TZID=America/New_York:20250625T150000
DTSTAMP:20260422T131625
CREATED:20250409T175715Z
LAST-MODIFIED:20250422T144204Z
UID:33859-1742990400-1750863600@soulbeing.com
SUMMARY:Community Acupuncture
DESCRIPTION:Join us regularly to discover how acupuncture can holistically support: \n‘Stress & Anxiety: Restore healthy nervous system patterns.\nSleep: Improve restorative sleep cycles for better rest.\nEnergy: Boost natural energy levels to counter fatigue.\nMental & Emotional Well-Being: Enhance focus\, mood\, and mental clarity.\nImmune Function: Strengthen your body’s natural defenses for optimal health.
URL:https://soulbeing.com/event/community-acupuncture/
LOCATION:Good Medicine Collective\, 231 York Street\, Portland\, ME\, 04102\, United States
ATTACH;FMTTYPE=image/png:https://soulbeing.com/wp-content/uploads/2025/04/CommunityAcupuncture.png
END:VEVENT
BEGIN:VEVENT
DTSTART;TZID=America/New_York:20250408T180000
DTEND;TZID=America/New_York:20250429T200000
DTSTAMP:20260422T131625
CREATED:20250214T205655Z
LAST-MODIFIED:20250214T205709Z
UID:33197-1744135200-1745956800@soulbeing.com
SUMMARY:Kriya Birth - A Mind - Body Approach to Birth Preparation
DESCRIPTION:Kriya Birth teaches birthing people and partners skills to  reduce fear of birth\, cope with labor & create a meaningful birth experience.\n\n\nThis 4 week class is designed for people interested in a deeper exploration of the mind/body connection through pregnancy and birth. You will learn techniques to minimize fear and pain\, and leave with increased courage in your bodies ability to birth. In this class you will learn how to: \n~ Access deep relaxation allowing the body to move through labor with ease \n~ Engage the mind to work with any discomfort you may experience \n~ Communicate your needs with support people and providers \n~ Use positioning and other techniques to encourage a gentle birth \n~ Increase confidence in your bodies innate wisdom to birth \nPartners and support people will leave this class with the confidence to take an active role in the birth experience. \nOne ticket for this class it is valid for both the birthing person and a partner or support person. A tour is included.
URL:https://soulbeing.com/event/kriya-birth-a-mind-body-approach-to-birth-preparation-2/
LOCATION:Wentworth-Douglass Hospital\, 789 Central Avenue\, Dover\, NH\, 03820\, United States
ATTACH;FMTTYPE=image/jpeg:https://soulbeing.com/wp-content/uploads/2025/02/fc187963a98871656e0beb07bb84e095.jpg
END:VEVENT
BEGIN:VEVENT
DTSTART;TZID=America/New_York:20250425T130000
DTEND;TZID=America/New_York:20250425T170000
DTSTAMP:20260422T131625
CREATED:20250214T204939Z
LAST-MODIFIED:20250214T204939Z
UID:33157-1745586000-1745600400@soulbeing.com
SUMMARY:Self-Care City Scavenger Hunt–Based on Hot Habits Series: Concord Area
DESCRIPTION:Self-Care City Scavenger Hunt – Based on Hot Habits Book Series. A fun hunt in your city to help you explore the sites and build wellness!
URL:https://soulbeing.com/event/self-care-city-scavenger-hunt-based-on-hot-habits-series-concord-area-41/
LOCATION:*Recommended scavenger starting point or other city spot of your choice! (YOU MUST USE PDF TICKETS EMAILED FOR EVENT- NO MOBILE APP OR QR CODES ACCEPTED)\, 22 Chenell Drive\, Concord\, NH\, 03301\, United States
ATTACH;FMTTYPE=image/jpeg:https://soulbeing.com/wp-content/uploads/2025/02/adf562ab60b51e88b5cbb2ac6b607d6f-1.jpg
END:VEVENT
BEGIN:VEVENT
DTSTART;TZID=America/New_York:20250425T180000
DTEND;TZID=America/New_York:20250427T113000
DTSTAMP:20260422T131625
CREATED:20250214T205415Z
LAST-MODIFIED:20250214T205425Z
UID:33186-1745604000-1745753400@soulbeing.com
SUMMARY:Women's Retreat
DESCRIPTION:Our 12th Annual Women’s Retreat will be held from Friday\, April 25 to Sunday\, April 27\, at The Margate Resort in Laconia\, NH.\n\n\nOur 12th Annual Women’s Retreat will be held from Friday\, April 25 to Sunday\, April 27\, at The Margate Resort on Winnipesaukee in Laconia\, NH. \nThe weekend-long retreat features educational sessions\, social activities\, health and wellness workshops\, breakout sessions\, and much more. \nLearn more about this event by clicking here. \nRegistration \n\nThe event is free for any 2025 NEHA member.\nTo become a member\, or to request a membership scholarship\, please click here.
URL:https://soulbeing.com/event/womens-retreat/
LOCATION:The Margate Resort\, 76 Lake Street\, Laconia\, NH\, 03246\, United States
ATTACH;FMTTYPE=image/jpeg:https://soulbeing.com/wp-content/uploads/2025/02/c52943b9501cfd982d10e54fc48a3956.jpg
END:VEVENT
BEGIN:VEVENT
DTSTART;TZID=America/New_York:20250425T180000
DTEND;TZID=America/New_York:20250427T120000
DTSTAMP:20260422T131625
CREATED:20250214T204021Z
LAST-MODIFIED:20250214T204022Z
UID:33084-1745604000-1745755200@soulbeing.com
SUMMARY:Wellness Weekend at Newfound Lake Inn
DESCRIPTION:Join us for a relaxing Wellness Weekend at Newfound Lake Inn filled with yoga\, meditation\, healthy food\, and holistic activities!\n\n\nWelcome to the Wellness Weekend at Newfound Lake Inn! Join us for a rejuvenating experience at this beautiful location. Take a break from the hustle and bustle of daily life and treat yourself to a weekend of relaxation and self-care. Our event offers a variety of activities to help you unwind and recharge\, including yoga classes\, meditation sessions\, nature walks\, and more. Connect with like-minded individuals and focus on your well-being in a serene setting. Whether you’re looking to de-stress\, improve your health\, or simply enjoy some time for yourself\, this weekend is the perfect opportunity to prioritize your wellness. We can’t wait to welcome you!
URL:https://soulbeing.com/event/wellness-weekend-at-newfound-lake-inn/
LOCATION:Newfound Lake Inn\, 1030 Mayhew Turnpike\, Bridgewater\, NH\, 03222\, United States
ATTACH;FMTTYPE=image/jpeg:https://soulbeing.com/wp-content/uploads/2025/02/9871717e7b23a2739d1b1c0e4f269b34-1.jpg
END:VEVENT
END:VCALENDAR